BEGIN:VCALENDAR
VERSION:2.0
PRODID:-//Ajuntament de Riudecols - ECPv5.16.0//NONSGML v1.0//EN
CALSCALE:GREGORIAN
METHOD:PUBLISH
X-WR-CALNAME:Ajuntament de Riudecols
X-ORIGINAL-URL:http://www.riudecols.cat
X-WR-CALDESC:Esdeveniments per Ajuntament de Riudecols
REFRESH-INTERVAL;VALUE=DURATION:PT1H
X-Robots-Tag:noindex
X-PUBLISHED-TTL:PT1H
BEGIN:VTIMEZONE
TZID:Europe/Helsinki
BEGIN:DAYLIGHT
TZOFFSETFROM:+0200
TZOFFSETTO:+0300
TZNAME:EEST
DTSTART:20230326T010000
END:DAYLIGHT
BEGIN:STANDARD
TZOFFSETFROM:+0300
TZOFFSETTO:+0200
TZNAME:EET
DTSTART:20231029T010000
END:STANDARD
END:VTIMEZONE
BEGIN:VEVENT
DTSTART;TZID=Europe/Helsinki:20230629T090000
DTEND;TZID=Europe/Helsinki:20230629T230000
DTSTAMP:20260419T213046
CREATED:20230626T110729Z
LAST-MODIFIED:20230626T111315Z
UID:108226-1688029200-1688079600@www.riudecols.cat
SUMMARY:Festa Major de Riudecols. 29 de juny
DESCRIPTION:De 9.00h a 12.00h  i de 16.00h a 20.00h \n\nTorneig local de pàdel A càrrec d’Els 4 Gats- Grup de Joves\n\n12.00h \n\nMissa Major de Sant Pere \n\n13.00h \n\nVermut musical a l’Euterpe amb la Dex’s Band de la Costa Brava. Plaça de l’Euterpe\n\n22.00h \n\nConcert acústic amb El Último Tributo. Pista Poliesportiva\n\nTot seguit \n\nExhibició rock acrobàtic amb Flip Flap 
URL:http://www.riudecols.cat/esdeveniment/festa-major-de-riudecols/
CATEGORIES:Agenda
ATTACH;FMTTYPE=image/jpeg:http://www.riudecols.cat/wp-content/uploads/2023/06/PHOTO-2023-06-22-01-27-34-1.jpg
END:VEVENT
END:VCALENDAR