BEGIN:VCALENDAR
VERSION:2.0
PRODID:-//Ajuntament de Riudecols - ECPv5.16.0//NONSGML v1.0//EN
CALSCALE:GREGORIAN
METHOD:PUBLISH
X-WR-CALNAME:Ajuntament de Riudecols
X-ORIGINAL-URL:http://www.riudecols.cat
X-WR-CALDESC:Esdeveniments per Ajuntament de Riudecols
REFRESH-INTERVAL;VALUE=DURATION:PT1H
X-Robots-Tag:noindex
X-PUBLISHED-TTL:PT1H
BEGIN:VTIMEZONE
TZID:Europe/Helsinki
BEGIN:DAYLIGHT
TZOFFSETFROM:+0200
TZOFFSETTO:+0300
TZNAME:EEST
DTSTART:20230326T010000
END:DAYLIGHT
BEGIN:STANDARD
TZOFFSETFROM:+0300
TZOFFSETTO:+0200
TZNAME:EET
DTSTART:20231029T010000
END:STANDARD
END:VTIMEZONE
BEGIN:VEVENT
DTSTART;TZID=Europe/Helsinki:20230611T120000
DTEND;TZID=Europe/Helsinki:20230611T140000
DTSTAMP:20260419T231305
CREATED:20230607T072343Z
LAST-MODIFIED:20230621T093556Z
UID:108199-1686484800-1686492000@www.riudecols.cat
SUMMARY:Festa de Sant Antoni de Pàdua a Les Irles
DESCRIPTION:
URL:http://www.riudecols.cat/esdeveniment/festa-de-sant-antoni-de-padua-a-les-irles/
CATEGORIES:Agenda
ATTACH;FMTTYPE=image/jpeg:http://www.riudecols.cat/wp-content/uploads/2023/06/irles.jpeg
END:VEVENT
END:VCALENDAR