BEGIN:VCALENDAR
VERSION:2.0
PRODID:-//Ajuntament de Riudecols - ECPv5.16.0//NONSGML v1.0//EN
CALSCALE:GREGORIAN
METHOD:PUBLISH
X-WR-CALNAME:Ajuntament de Riudecols
X-ORIGINAL-URL:http://www.riudecols.cat
X-WR-CALDESC:Esdeveniments per Ajuntament de Riudecols
REFRESH-INTERVAL;VALUE=DURATION:PT1H
X-Robots-Tag:noindex
X-PUBLISHED-TTL:PT1H
BEGIN:VTIMEZONE
TZID:Europe/Helsinki
BEGIN:DAYLIGHT
TZOFFSETFROM:+0200
TZOFFSETTO:+0300
TZNAME:EEST
DTSTART:20220327T010000
END:DAYLIGHT
BEGIN:STANDARD
TZOFFSETFROM:+0300
TZOFFSETTO:+0200
TZNAME:EET
DTSTART:20221030T010000
END:STANDARD
END:VTIMEZONE
BEGIN:VEVENT
DTSTART;VALUE=DATE:20221206
DTEND;VALUE=DATE:20221207
DTSTAMP:20260420T092850
CREATED:20220118T170138Z
LAST-MODIFIED:20230621T093606Z
UID:107902-1670284800-1670371199@www.riudecols.cat
SUMMARY:Festa Major de la Immaculada Concepció de Les Voltes
DESCRIPTION:
URL:http://www.riudecols.cat/esdeveniment/festa-major-de-la-immaculada-concepcio-de-les-voltes/
CATEGORIES:Agenda
END:VEVENT
END:VCALENDAR