BEGIN:VCALENDAR
VERSION:2.0
PRODID:-//Ajuntament de Riudecols - ECPv5.16.0//NONSGML v1.0//EN
CALSCALE:GREGORIAN
METHOD:PUBLISH
X-ORIGINAL-URL:http://www.riudecols.cat
X-WR-CALDESC:Esdeveniments per Ajuntament de Riudecols
REFRESH-INTERVAL;VALUE=DURATION:PT1H
X-Robots-Tag:noindex
X-PUBLISHED-TTL:PT1H
BEGIN:VTIMEZONE
TZID:Europe/Helsinki
BEGIN:DAYLIGHT
TZOFFSETFROM:+0200
TZOFFSETTO:+0300
TZNAME:EEST
DTSTART:20220327T010000
END:DAYLIGHT
BEGIN:STANDARD
TZOFFSETFROM:+0300
TZOFFSETTO:+0200
TZNAME:EET
DTSTART:20221030T010000
END:STANDARD
END:VTIMEZONE
BEGIN:VEVENT
DTSTART;TZID=Europe/Helsinki:20221001T230000
DTEND;TZID=Europe/Helsinki:20221002T230000
DTSTAMP:20260422T123003
CREATED:20220928T171346Z
LAST-MODIFIED:20220928T171346Z
UID:108062-1664665200-1664751600@www.riudecols.cat
SUMMARY:FM Mare de Déu del Roser - Concert de versions
DESCRIPTION:
URL:http://www.riudecols.cat/esdeveniment/fm-mare-de-deu-del-roser-concert-de-versions/
CATEGORIES:Agenda
ATTACH;FMTTYPE=image/jpeg:http://www.riudecols.cat/wp-content/uploads/2022/09/fmroserriu.jpg
END:VEVENT
BEGIN:VEVENT
DTSTART;TZID=Europe/Helsinki:20221002T013000
DTEND;TZID=Europe/Helsinki:20221002T030000
DTSTAMP:20260422T123003
CREATED:20220928T171436Z
LAST-MODIFIED:20220928T171436Z
UID:108064-1664674200-1664679600@www.riudecols.cat
SUMMARY:FM Mare de Déu del Roser - Música per a joves
DESCRIPTION:
URL:http://www.riudecols.cat/esdeveniment/fm-mare-de-deu-del-roser-musica-per-a-joves/
CATEGORIES:Agenda
ATTACH;FMTTYPE=image/jpeg:http://www.riudecols.cat/wp-content/uploads/2022/09/fmroserriu.jpg
END:VEVENT
BEGIN:VEVENT
DTSTART;TZID=Europe/Helsinki:20221002T120000
DTEND;TZID=Europe/Helsinki:20221002T130000
DTSTAMP:20260422T123003
CREATED:20220928T171922Z
LAST-MODIFIED:20220928T171922Z
UID:108068-1664712000-1664715600@www.riudecols.cat
SUMMARY:FM Mare de Déu del Roser - Missa
DESCRIPTION:
URL:http://www.riudecols.cat/esdeveniment/fm-mare-de-deu-del-roser-missa/
CATEGORIES:Agenda
ATTACH;FMTTYPE=image/jpeg:http://www.riudecols.cat/wp-content/uploads/2022/09/fmroserriu.jpg
END:VEVENT
BEGIN:VEVENT
DTSTART;TZID=Europe/Helsinki:20221002T120000
DTEND;TZID=Europe/Helsinki:20221002T133000
DTSTAMP:20260422T123003
CREATED:20220928T171834Z
LAST-MODIFIED:20220928T171834Z
UID:108066-1664712000-1664717400@www.riudecols.cat
SUMMARY:FM Mare de Déu del Roser - Inflables
DESCRIPTION:
URL:http://www.riudecols.cat/esdeveniment/fm-mare-de-deu-del-roser-inflables/
CATEGORIES:Agenda
ATTACH;FMTTYPE=image/jpeg:http://www.riudecols.cat/wp-content/uploads/2022/09/fmroserriu.jpg
END:VEVENT
BEGIN:VEVENT
DTSTART;TZID=Europe/Helsinki:20221002T183000
DTEND;TZID=Europe/Helsinki:20221002T200000
DTSTAMP:20260422T123003
CREATED:20220928T172019Z
LAST-MODIFIED:20220928T172019Z
UID:108071-1664735400-1664740800@www.riudecols.cat
SUMMARY:FM Mare de Déu del Roser - Ball. Música dels 60\, 70 i 80
DESCRIPTION:
URL:http://www.riudecols.cat/esdeveniment/fm-mare-de-deu-del-roser-ball-musica-dels-60-70-i-80/
CATEGORIES:Agenda
ATTACH;FMTTYPE=image/jpeg:http://www.riudecols.cat/wp-content/uploads/2022/09/fmroserriu.jpg
END:VEVENT
END:VCALENDAR