BEGIN:VCALENDAR
VERSION:2.0
PRODID:-//Ajuntament de Riudecols - ECPv5.16.0//NONSGML v1.0//EN
CALSCALE:GREGORIAN
METHOD:PUBLISH
X-WR-CALNAME:Ajuntament de Riudecols
X-ORIGINAL-URL:http://www.riudecols.cat
X-WR-CALDESC:Esdeveniments per Ajuntament de Riudecols
REFRESH-INTERVAL;VALUE=DURATION:PT1H
X-Robots-Tag:noindex
X-PUBLISHED-TTL:PT1H
BEGIN:VTIMEZONE
TZID:Europe/Helsinki
BEGIN:DAYLIGHT
TZOFFSETFROM:+0200
TZOFFSETTO:+0300
TZNAME:EEST
DTSTART:20220327T010000
END:DAYLIGHT
BEGIN:STANDARD
TZOFFSETFROM:+0300
TZOFFSETTO:+0200
TZNAME:EET
DTSTART:20221030T010000
END:STANDARD
END:VTIMEZONE
BEGIN:VEVENT
DTSTART;TZID=Europe/Helsinki:20220313T110000
DTEND;TZID=Europe/Helsinki:20220313T130000
DTSTAMP:20260422T224203
CREATED:20220228T073904Z
LAST-MODIFIED:20220228T073904Z
UID:107942-1647169200-1647176400@www.riudecols.cat
SUMMARY:Dia de la Dona. Mural lila i refrigeri
DESCRIPTION:
URL:http://www.riudecols.cat/esdeveniment/dia-de-la-dona-mural-lila-i-refrigeri/
LOCATION:Parada de bus
CATEGORIES:Agenda
ATTACH;FMTTYPE=image/jpeg:http://www.riudecols.cat/wp-content/uploads/2022/02/diadonariudecols-scaled.jpg
END:VEVENT
END:VCALENDAR