BEGIN:VCALENDAR
VERSION:2.0
PRODID:-//Ajuntament de Riudecols - ECPv5.16.0//NONSGML v1.0//EN
CALSCALE:GREGORIAN
METHOD:PUBLISH
X-ORIGINAL-URL:http://www.riudecols.cat
X-WR-CALDESC:Esdeveniments per Ajuntament de Riudecols
REFRESH-INTERVAL;VALUE=DURATION:PT1H
X-Robots-Tag:noindex
X-PUBLISHED-TTL:PT1H
BEGIN:VTIMEZONE
TZID:Europe/Helsinki
BEGIN:DAYLIGHT
TZOFFSETFROM:+0200
TZOFFSETTO:+0300
TZNAME:EEST
DTSTART:20210328T010000
END:DAYLIGHT
BEGIN:STANDARD
TZOFFSETFROM:+0300
TZOFFSETTO:+0200
TZNAME:EET
DTSTART:20211031T010000
END:STANDARD
END:VTIMEZONE
BEGIN:VEVENT
DTSTART;TZID=Europe/Helsinki:20210925T180000
DTEND;TZID=Europe/Helsinki:20210925T200000
DTSTAMP:20260423T072720
CREATED:20210917T100433Z
LAST-MODIFIED:20210917T100433Z
UID:107779-1632592800-1632600000@www.riudecols.cat
SUMMARY:Sardina's Golden Rule
DESCRIPTION:Begudes i aperitius gratuïts.
URL:http://www.riudecols.cat/esdeveniment/sardinas-golden-rule/
LOCATION:Carrer de la Concepció de Les Voltes
CATEGORIES:Agenda
ATTACH;FMTTYPE=image/jpeg:http://www.riudecols.cat/wp-content/uploads/2021/09/Programa_FM_Octubre_21_Riudecols_page-0001.jpg
END:VEVENT
END:VCALENDAR